BEGIN:VCALENDAR
VERSION:2.0
PRODID:-//Niijii Radio - ECPv5.10.0//NONSGML v1.0//EN
CALSCALE:GREGORIAN
METHOD:PUBLISH
X-WR-CALNAME:Niijii Radio
X-ORIGINAL-URL:https://www.niijiiradio.com
X-WR-CALDESC:Events for Niijii Radio
BEGIN:VTIMEZONE
TZID:America/Chicago
BEGIN:DAYLIGHT
TZOFFSETFROM:-0600
TZOFFSETTO:-0500
TZNAME:CDT
DTSTART:20190310T080000
END:DAYLIGHT
BEGIN:STANDARD
TZOFFSETFROM:-0500
TZOFFSETTO:-0600
TZNAME:CST
DTSTART:20191103T070000
END:STANDARD
END:VTIMEZONE
BEGIN:VEVENT
DTSTART;TZID=America/Chicago:20191018T110000
DTEND;TZID=America/Chicago:20191018T170000
DTSTAMP:20260425T213353
CREATED:20191007T214518Z
LAST-MODIFIED:20191007T214518Z
UID:2361-1571396400-1571418000@www.niijiiradio.com
SUMMARY:Taco Sale
DESCRIPTION:Friday\, October 18th KKWE Niijii Radio will having a taco sale to help with general operating costs of the station.  You can pre-order by calling 218-375-2012 or 218-401-0115.  Cost is $8.00.  We will deliver 6 or more tacos as far as Waubun and Detroit Lakes.  Grab your friends and eat tacos together! YUM
URL:https://www.niijiiradio.com/event/taco-sale/
LOCATION:White Earth Land Reccovery Project\, 607 Main Avenue\, Callaway\, MN\, 56521\, United States
END:VEVENT
END:VCALENDAR