BEGIN:VCALENDAR
VERSION:2.0
PRODID:-//Niijii Radio - ECPv5.10.0//NONSGML v1.0//EN
CALSCALE:GREGORIAN
METHOD:PUBLISH
X-WR-CALNAME:Niijii Radio
X-ORIGINAL-URL:https://www.niijiiradio.com
X-WR-CALDESC:Events for Niijii Radio
BEGIN:VTIMEZONE
TZID:America/Chicago
BEGIN:DAYLIGHT
TZOFFSETFROM:-0600
TZOFFSETTO:-0500
TZNAME:CDT
DTSTART:20190310T080000
END:DAYLIGHT
BEGIN:STANDARD
TZOFFSETFROM:-0500
TZOFFSETTO:-0600
TZNAME:CST
DTSTART:20191103T070000
END:STANDARD
END:VTIMEZONE
BEGIN:VEVENT
DTSTART;TZID=America/Chicago:20190928T190000
DTEND;TZID=America/Chicago:20190928T200000
DTSTAMP:20260425T230526
CREATED:20190904T171452Z
LAST-MODIFIED:20190904T171452Z
UID:2304-1569697200-1569700800@www.niijiiradio.com
SUMMARY:KKWE Niijii Radio Minnesota Music Mixdown
DESCRIPTION:KKWE Presents “WarBonnet” An Indigenous Rock band from Northern Minnesota
URL:https://www.niijiiradio.com/event/kkwe-niijii-radio-minnesota-music-mixdown/
LOCATION:King’s Corner\, 101 ST STREET NW\, MAHNOMEN\, MN\, United States
ORGANIZER;CN="Grace%20Roberts":MAILTO:Graceroberts@niijiiradio.com
END:VEVENT
END:VCALENDAR