BEGIN:VCALENDAR
VERSION:2.0
PRODID:-//Niijii Radio - ECPv5.10.0//NONSGML v1.0//EN
CALSCALE:GREGORIAN
METHOD:PUBLISH
X-WR-CALNAME:Niijii Radio
X-ORIGINAL-URL:https://www.niijiiradio.com
X-WR-CALDESC:Events for Niijii Radio
BEGIN:VTIMEZONE
TZID:America/Chicago
BEGIN:DAYLIGHT
TZOFFSETFROM:-0600
TZOFFSETTO:-0500
TZNAME:CDT
DTSTART:20190310T080000
END:DAYLIGHT
BEGIN:STANDARD
TZOFFSETFROM:-0500
TZOFFSETTO:-0600
TZNAME:CST
DTSTART:20191103T070000
END:STANDARD
END:VTIMEZONE
BEGIN:VEVENT
DTSTART;VALUE=DATE:20191110
DTEND;VALUE=DATE:20191124
DTSTAMP:20260425T201524
CREATED:20191008T182857Z
LAST-MODIFIED:20191008T183732Z
UID:2364-1573344000-1574553599@www.niijiiradio.com
SUMMARY:KKWE Adopt-A-Watt Campaign
DESCRIPTION:For just 10 dollars a year\, you\, my friend\, can become a member of your most loved community/public radio station.  KKWE is running it’s first annual adopt a watt campaign.  You like what you hear\, you know that each day KKWE will bring a smile to your face\, and you know that we are here to make a difference in our community.  You can be a part of that difference.  Donate today @www.niijiiradio.org.  Miigwech!
URL:https://www.niijiiradio.com/event/kkwe-adopt-watt-campaign/
LOCATION:Niijii Radio\, 607 Main Ave\, Callaway
END:VEVENT
END:VCALENDAR