BEGIN:VCALENDAR
VERSION:2.0
PRODID:-//Niijii Radio - ECPv5.10.0//NONSGML v1.0//EN
CALSCALE:GREGORIAN
METHOD:PUBLISH
X-WR-CALNAME:Niijii Radio
X-ORIGINAL-URL:https://www.niijiiradio.com
X-WR-CALDESC:Events for Niijii Radio
BEGIN:VTIMEZONE
TZID:America/Chicago
BEGIN:DAYLIGHT
TZOFFSETFROM:-0600
TZOFFSETTO:-0500
TZNAME:CDT
DTSTART:20200308T080000
END:DAYLIGHT
BEGIN:STANDARD
TZOFFSETFROM:-0500
TZOFFSETTO:-0600
TZNAME:CST
DTSTART:20201101T070000
END:STANDARD
END:VTIMEZONE
BEGIN:VEVENT
DTSTART;TZID=America/Chicago:20200114T173000
DTEND;TZID=America/Chicago:20200114T183000
DTSTAMP:20260425T213843
CREATED:20191227T174251Z
LAST-MODIFIED:20191227T174251Z
UID:2444-1579023000-1579026600@www.niijiiradio.com
SUMMARY:January Volunteer Meeting
DESCRIPTION:https://www.niijiiradio.com/wp-content/uploads/2019/12/Copy-of-Winter-Event-Instagram-Post-Made-with-PosterMyWall-2.mp4
URL:https://www.niijiiradio.com/event/january-volunteer-meeting/
LOCATION:Niijii Radio\, 607 Main Ave\, Callaway
ORGANIZER;CN="Grace%20Roberts":MAILTO:Graceroberts@niijiiradio.com
END:VEVENT
END:VCALENDAR